BEGIN:VCALENDAR
VERSION:2.0
PRODID:-//ChamberMaster//Event Calendar 2.0//EN
METHOD:PUBLISH
X-PUBLISHED-TTL:P3D
REFRESH-INTERVAL:P3D
CALSCALE:GREGORIAN
BEGIN:VEVENT
DTSTART:20190504T160000Z
DTEND:20190504T200000Z
X-MICROSOFT-CDO-ALLDAYEVENT:FALSE
SUMMARY:2019 Community Health Fair
DESCRIPTION:The 2019 Community Health Fair is set to take you to \n\nDestination: Health\nSponsored for our community by Rehoboth McKinley Christian Health Care Services\, Rio West Mall\, the New Mexico Cancer Center and UNM Gallup\n\n\n\nHealth-related service providers\, local and regional government and private representatives will be on hand to help you navigate your journey to better health.  You can take advantage of free blood pressure checks\, glucose and HIV testing\, tour healthy eating habits\, pick up information on any number of companies designed to improve your well being\, enjoy ongoing entertainment\, win prizes and much more!
X-ALT-DESC;FMTTYPE=text/html:<h1><span style="font-size:22px">The 2019 Community Health Fair is set to take you to </span><br />\n<span style="font-size:24px">Destination: Health</span></h1>\n<strong>Sponsored for our community by Rehoboth McKinley Christian Health Care Services\, Rio West Mall\, the New Mexico Cancer Center and UNM Gallup</strong><br />\n<br />\nHealth-related service providers\, local and regional government and private&nbsp\;representatives will be on hand to help you navigate your journey to better health.&nbsp\; You can take advantage of free blood pressure checks\, glucose and HIV testing\, tour healthy eating habits\, pick up information on any number of companies designed to improve your well being\, enjoy ongoing entertainment\, win prizes and much more!<br />\n&nbsp\;
LOCATION:Rio West Mall
UID:e.744.2300
SEQUENCE:3
DTSTAMP:20260422T033110Z
URL:https://business.thegallupchamber.com/events/details/2019-community-health-fair-2300
END:VEVENT

END:VCALENDAR
