BEGIN:VCALENDAR
VERSION:2.0
PRODID:-//ChamberMaster//Event Calendar 2.0//EN
METHOD:PUBLISH
X-PUBLISHED-TTL:P3D
REFRESH-INTERVAL:P3D
CALSCALE:GREGORIAN
BEGIN:VEVENT
DTSTART:20160207T013000Z
DTEND:20160207T070000Z
X-MICROSOFT-CDO-ALLDAYEVENT:FALSE
SUMMARY:2016 Bishop's Mardi Gras
DESCRIPTION:Join Bishop James S. Wall and Catholic Peoples Foundation for the 2016\n\nBishop's Mardi Gras\n\n\n\nCorporate Sponsorships available\n\n \n\n	Gourmet Steak Dinner\n	Fantastic Silent Auction\n	Music and Dancing\n	Classic Car Giveaway\n	Bar
X-ALT-DESC;FMTTYPE=text/html:Join Bishop James S. Wall and Catholic Peoples Foundation for the 2016<br />\nBishop&#39\;s Mardi Gras<br />\n<br />\nCorporate Sponsorships available<br />\n&nbsp\;\n<ul>\n	<li>Gourmet Steak Dinner</li>\n	<li>Fantastic Silent Auction</li>\n	<li>Music and Dancing</li>\n	<li>Classic Car Giveaway</li>\n	<li>Bar</li>\n</ul>\n
LOCATION:Sacred Heart Cathedral Gym
UID:e.744.1678
SEQUENCE:3
DTSTAMP:20260421T224621Z
URL:https://business.thegallupchamber.com/events/details/2016-bishop-s-mardi-gras-02-06-2016-1678
END:VEVENT

END:VCALENDAR
