BEGIN:VCALENDAR
VERSION:2.0
PRODID:-//ChamberMaster//Event Calendar 2.0//EN
METHOD:PUBLISH
X-PUBLISHED-TTL:P3D
REFRESH-INTERVAL:P3D
CALSCALE:GREGORIAN
BEGIN:VEVENT
DTSTART;VALUE=DATE:20220804
DTEND;VALUE=DATE:20220815
TRANSP:TRANSPARENT
X-MICROSOFT-CDO-ALLDAYEVENT:TRUE
SUMMARY:100th Gallup Intertribal Ceremonial
DESCRIPTION:Ceremonial Centennial Celebration\n\nAugust 4th - 14th\n\n100th Gallup Intertribal Ceremonial\n\nRed Rock Park | Gallup\, New Mexico\n\n\nOne of New Mexico's longest running events\, the Ceremonial Centennial Celebration will be a mixture of in-person and virtual events. Scheduled events include: One World Beat   Native American & Indigenous Tribal Processions & Performance Showcases\, Rodeo Events\, Ceremonial Queen and Princess Pageants\, Juried Art Show & Opening Night Wine Gala\, Virtual Artisans Market\, 5k Run/Walk\, Parades\, Powwow\, Navajo Song & Dance\, Film Festival and more. "The Ceremonial" is hosted annually at Red Rock Park near Gallup\, NM. Various citywide events are also being planned.
X-ALT-DESC;FMTTYPE=text/html:<h3 style="border-width: 0px\; border-style: solid\; border-color: currentcolor\; box-sizing: border-box\; margin-top: 0px\; margin-right: 0px\; margin-bottom: var(--core-margin-bottom)\; margin-left: 0px\; font-size: var(--core-h3)\; font-weight: 700\; font-family: proxima-nova\, sans-serif\; color: var(--black)\; letter-spacing: var(--core-letter-spacing)\; line-height: 42px\; text-align: center\;"><span style="font-family:tahoma\;"><span style="font-size:18px\;">Ceremonial Centennial Celebration</span></span></h3>\n\n<h4 style="border-width: 0px\; border-style: solid\; border-color: currentcolor\; box-sizing: border-box\; margin-top: 0px\; margin-right: 0px\; margin-bottom: var(--core-margin-bottom)\; margin-left: 0px\; font-size: var(--core-h4)\; font-weight: 700\; font-family: proxima-nova\, sans-serif\; color: var(--black)\; letter-spacing: var(--core-letter-spacing)\; line-height: 36px\; text-align: center\;"><span style="font-family:tahoma\;"><span style="font-size:18px\;">August 4th - 14th</span></span><br style="border-width: 0px\; border-style: solid\; border-color: currentcolor\; box-sizing: border-box\;" />\n<span style="font-family:tahoma\;"><span style="font-size:18px\;">100th Gallup Intertribal Ceremonial<br style="border-width: 0px\; border-style: solid\; border-color: currentcolor\; box-sizing: border-box\;" />\nRed Rock Park | Gallup\, New Mexico</span></span></h4>\n<br />\n<span style="color: rgb(65\, 64\, 66)\; font-family: proxima-nova\, sans-serif\; font-size: 18px\; text-align: justify\;">One of New Mexico&rsquo\;s longest running events\, the Ceremonial Centennial Celebration will be a mixture of in-person and virtual events. Scheduled events include: One World Beat &ndash\; Native American &amp\; Indigenous Tribal Processions &amp\; Performance Showcases\, Rodeo Events\, Ceremonial Queen and Princess Pageants\, Juried Art Show &amp\; Opening Night Wine Gala\, Virtual Artisans Market\, 5k Run/Walk\, Parades\, Powwow\, Navajo Song &amp\; Dance\, Film Festival&nbsp\;and more. &ldquo\;The Ceremonial&rdquo\; is hosted annually at Red Rock Park near Gallup\, NM. Various citywide events are also being planned.&nbsp\;&nbsp\;</span><br />\n<br />\n&nbsp\;
LOCATION:See Event Calendar for event locations Events will take place at Red Rock Park and El Morro Events Center
UID:e.744.3786
SEQUENCE:3
DTSTAMP:20260421T004237Z
URL:https://business.thegallupchamber.com/events/details/100th-gallup-intertribal-ceremonial-3786
END:VEVENT

END:VCALENDAR
